BEGIN:VCALENDAR
VERSION:2.0
PRODID:-//Joseph P. Riley, Jr. Park - ECPv6.15.20//NONSGML v1.0//EN
CALSCALE:GREGORIAN
METHOD:PUBLISH
X-ORIGINAL-URL:https://rileyparkevents.com
X-WR-CALDESC:Events for Joseph P. Riley, Jr. Park
REFRESH-INTERVAL;VALUE=DURATION:PT1H
X-Robots-Tag:noindex
X-PUBLISHED-TTL:PT1H
BEGIN:VTIMEZONE
TZID:America/New_York
BEGIN:DAYLIGHT
TZOFFSETFROM:-0500
TZOFFSETTO:-0400
TZNAME:EDT
DTSTART:20230312T070000
END:DAYLIGHT
BEGIN:STANDARD
TZOFFSETFROM:-0400
TZOFFSETTO:-0500
TZNAME:EST
DTSTART:20231105T060000
END:STANDARD
BEGIN:DAYLIGHT
TZOFFSETFROM:-0500
TZOFFSETTO:-0400
TZNAME:EDT
DTSTART:20240310T070000
END:DAYLIGHT
BEGIN:STANDARD
TZOFFSETFROM:-0400
TZOFFSETTO:-0500
TZNAME:EST
DTSTART:20241103T060000
END:STANDARD
BEGIN:DAYLIGHT
TZOFFSETFROM:-0500
TZOFFSETTO:-0400
TZNAME:EDT
DTSTART:20250309T070000
END:DAYLIGHT
BEGIN:STANDARD
TZOFFSETFROM:-0400
TZOFFSETTO:-0500
TZNAME:EST
DTSTART:20251102T060000
END:STANDARD
END:VTIMEZONE
BEGIN:VEVENT
DTSTART;TZID=America/New_York:20241022T080000
DTEND;TZID=America/New_York:20241022T130000
DTSTAMP:20260420T021531
CREATED:20240826T174644Z
LAST-MODIFIED:20240826T175152Z
UID:2203-1729584000-1729602000@rileyparkevents.com
SUMMARY:RiverDogs Golf Tournament
DESCRIPTION:Show your golf skills at the Charleston RiverDogs Golf Tournament at The Links at Stono Ferry. Put together your foursome and enjoy pre-round welcome gift(s)\, breakfast\, range\, rounds\, carts\, on-course beverages\, post round lunch\, and awards for first\, second and third place finishes. It all takes place October 22nd with an 8am registration and 9am shotgun start. Get your group signed up today! \nPoster
URL:https://rileyparkevents.com/event/riverdogs-golf-tournament/
LOCATION:The Links at Stono Ferry\, 4812 Stono Links Drive
CATEGORIES:Special Event
ATTACH;FMTTYPE=image/png:https://rileyparkevents.com/wp-content/uploads/2024/08/October-Golf-Tournament-FI.png
END:VEVENT
END:VCALENDAR