BEGIN:VCALENDAR
VERSION:2.0
PRODID:-//Joseph P. Riley, Jr. Park - ECPv6.15.20//NONSGML v1.0//EN
CALSCALE:GREGORIAN
METHOD:PUBLISH
X-ORIGINAL-URL:https://rileyparkevents.com
X-WR-CALDESC:Events for Joseph P. Riley, Jr. Park
REFRESH-INTERVAL;VALUE=DURATION:PT1H
X-Robots-Tag:noindex
X-PUBLISHED-TTL:PT1H
BEGIN:VTIMEZONE
TZID:America/New_York
BEGIN:DAYLIGHT
TZOFFSETFROM:-0500
TZOFFSETTO:-0400
TZNAME:EDT
DTSTART:20230312T070000
END:DAYLIGHT
BEGIN:STANDARD
TZOFFSETFROM:-0400
TZOFFSETTO:-0500
TZNAME:EST
DTSTART:20231105T060000
END:STANDARD
BEGIN:DAYLIGHT
TZOFFSETFROM:-0500
TZOFFSETTO:-0400
TZNAME:EDT
DTSTART:20240310T070000
END:DAYLIGHT
BEGIN:STANDARD
TZOFFSETFROM:-0400
TZOFFSETTO:-0500
TZNAME:EST
DTSTART:20241103T060000
END:STANDARD
BEGIN:DAYLIGHT
TZOFFSETFROM:-0500
TZOFFSETTO:-0400
TZNAME:EDT
DTSTART:20250309T070000
END:DAYLIGHT
BEGIN:STANDARD
TZOFFSETFROM:-0400
TZOFFSETTO:-0500
TZNAME:EST
DTSTART:20251102T060000
END:STANDARD
END:VTIMEZONE
BEGIN:VEVENT
DTSTART;TZID=America/New_York:20240613T190000
DTEND;TZID=America/New_York:20240613T220000
DTSTAMP:20260423T144442
CREATED:20240306T180038Z
LAST-MODIFIED:20240306T180854Z
UID:2168-1718305200-1718316000@rileyparkevents.com
SUMMARY:Bert Kreischer's FULLY LOADED Comedy Festival
DESCRIPTION:The Charleston RiverDogs announced that Joseph P. Riley\, Jr. Park will host the second stop on Bert “The Machine” Kreischer’s third annual Fully Loaded Comedy Festival which will visit 13 of the most iconic ballparks\, amphitheaters and arenas across the country. The June 13 event will feature Kreischer\, Mark Normand\, Dave Attell\, Big Jay Oakerson\, Dan Soder\, and other guests to be announced. \nPresale begins today\, Tuesday\, March 5 at 12:00 p.m. (code: LOADED) and tickets go on-sale to the public on Friday\, March 8 at 10:00 a.m.The show starts at 7:00 p.m. and the gates will open at 5:00 p.m.
URL:https://rileyparkevents.com/event/bert-kreischers-fully-loaded-comedy-festival/
LOCATION:Joseph P. Riley Park\, 360 Fishburne Street\, Charleston\, 29403\, United States
CATEGORIES:Special Event
ATTACH;FMTTYPE=image/png:https://rileyparkevents.com/wp-content/uploads/2024/03/Loaded-Comedy-poster-cropped.png
END:VEVENT
END:VCALENDAR