BEGIN:VCALENDAR
VERSION:2.0
PRODID:-//Joseph P. Riley, Jr. Park - ECPv6.15.20//NONSGML v1.0//EN
CALSCALE:GREGORIAN
METHOD:PUBLISH
X-ORIGINAL-URL:https://rileyparkevents.com
X-WR-CALDESC:Events for Joseph P. Riley, Jr. Park
REFRESH-INTERVAL;VALUE=DURATION:PT1H
X-Robots-Tag:noindex
X-PUBLISHED-TTL:PT1H
BEGIN:VTIMEZONE
TZID:America/New_York
BEGIN:DAYLIGHT
TZOFFSETFROM:-0500
TZOFFSETTO:-0400
TZNAME:EDT
DTSTART:20230312T070000
END:DAYLIGHT
BEGIN:STANDARD
TZOFFSETFROM:-0400
TZOFFSETTO:-0500
TZNAME:EST
DTSTART:20231105T060000
END:STANDARD
BEGIN:DAYLIGHT
TZOFFSETFROM:-0500
TZOFFSETTO:-0400
TZNAME:EDT
DTSTART:20240310T070000
END:DAYLIGHT
BEGIN:STANDARD
TZOFFSETFROM:-0400
TZOFFSETTO:-0500
TZNAME:EST
DTSTART:20241103T060000
END:STANDARD
BEGIN:DAYLIGHT
TZOFFSETFROM:-0500
TZOFFSETTO:-0400
TZNAME:EDT
DTSTART:20250309T070000
END:DAYLIGHT
BEGIN:STANDARD
TZOFFSETFROM:-0400
TZOFFSETTO:-0500
TZNAME:EST
DTSTART:20251102T060000
END:STANDARD
END:VTIMEZONE
BEGIN:VEVENT
DTSTART;TZID=America/New_York:20240614T170000
DTEND;TZID=America/New_York:20240614T210000
DTSTAMP:20260422T230647
CREATED:20240125T200336Z
LAST-MODIFIED:20240125T204111Z
UID:2143-1718384400-1718398800@rileyparkevents.com
SUMMARY:Legends in the South 2024
DESCRIPTION:Legends in the South – SOFTBALL GAME FEATURING FORMER MLB PLAYERS.\nGet the flyer with all the details.  \nThe fun starts at 5PM with Batting Practice & Fan Fest. The Legends softball game starts at 7PM\, followed with Post-Game Fireworks.  \nProceeds benefit MUSC Shawn Jenkins Children’s Hospital. Sponsored by The Charleston RiverDogs\, First National Bank\, Budweiser\, and The Marino Group
URL:https://rileyparkevents.com/event/legends-in-the-south-2024/
LOCATION:Joseph P. Riley Park\, 360 Fishburne Street\, Charleston\, 29403\, United States
CATEGORIES:Special Event
ATTACH;FMTTYPE=image/png:https://rileyparkevents.com/wp-content/uploads/2024/01/legends-featured-image.png
END:VEVENT
END:VCALENDAR