BEGIN:VCALENDAR
VERSION:2.0
PRODID:-//Joseph P. Riley, Jr. Park - ECPv6.15.20//NONSGML v1.0//EN
CALSCALE:GREGORIAN
METHOD:PUBLISH
X-ORIGINAL-URL:https://rileyparkevents.com
X-WR-CALDESC:Events for Joseph P. Riley, Jr. Park
REFRESH-INTERVAL;VALUE=DURATION:PT1H
X-Robots-Tag:noindex
X-PUBLISHED-TTL:PT1H
BEGIN:VTIMEZONE
TZID:America/New_York
BEGIN:DAYLIGHT
TZOFFSETFROM:-0500
TZOFFSETTO:-0400
TZNAME:EDT
DTSTART:20230312T070000
END:DAYLIGHT
BEGIN:STANDARD
TZOFFSETFROM:-0400
TZOFFSETTO:-0500
TZNAME:EST
DTSTART:20231105T060000
END:STANDARD
BEGIN:DAYLIGHT
TZOFFSETFROM:-0500
TZOFFSETTO:-0400
TZNAME:EDT
DTSTART:20240310T070000
END:DAYLIGHT
BEGIN:STANDARD
TZOFFSETFROM:-0400
TZOFFSETTO:-0500
TZNAME:EST
DTSTART:20241103T060000
END:STANDARD
BEGIN:DAYLIGHT
TZOFFSETFROM:-0500
TZOFFSETTO:-0400
TZNAME:EDT
DTSTART:20250309T070000
END:DAYLIGHT
BEGIN:STANDARD
TZOFFSETFROM:-0400
TZOFFSETTO:-0500
TZNAME:EST
DTSTART:20251102T060000
END:STANDARD
END:VTIMEZONE
BEGIN:VEVENT
DTSTART;VALUE=DATE:20240625
DTEND;VALUE=DATE:20240626
DTSTAMP:20260423T035605
CREATED:20240125T203724Z
LAST-MODIFIED:20240125T205200Z
UID:2159-1719273600-1719359999@rileyparkevents.com
SUMMARY:18th Annual Golf Tournament at Bulls Bay Country Club
DESCRIPTION:Grab your clubs and head over for a great day of golf at Bulls Bay Country Club. \nPut together your foursome\, sponsor a hole and help benefit MUSC Children’s Health.
URL:https://rileyparkevents.com/event/18th-annual-golf-tournament-at-bulls-bay-country-club/
LOCATION:Bulls Bay Country Club\, 995 Bulls Bay Drive\, Awendaw\, South Carolina\, 29429
CATEGORIES:Special Event
ATTACH;FMTTYPE=image/jpeg:https://rileyparkevents.com/wp-content/uploads/2024/01/2024-Golf-Tournament-Graphic-featured-image.jpg
END:VEVENT
END:VCALENDAR