BEGIN:VCALENDAR
VERSION:2.0
PRODID:-//Joseph P. Riley, Jr. Park - ECPv6.15.20//NONSGML v1.0//EN
CALSCALE:GREGORIAN
METHOD:PUBLISH
X-WR-CALNAME:Joseph P. Riley, Jr. Park
X-ORIGINAL-URL:https://rileyparkevents.com
X-WR-CALDESC:Events for Joseph P. Riley, Jr. Park
REFRESH-INTERVAL;VALUE=DURATION:PT1H
X-Robots-Tag:noindex
X-PUBLISHED-TTL:PT1H
BEGIN:VTIMEZONE
TZID:America/New_York
BEGIN:DAYLIGHT
TZOFFSETFROM:-0500
TZOFFSETTO:-0400
TZNAME:EDT
DTSTART:20240310T070000
END:DAYLIGHT
BEGIN:STANDARD
TZOFFSETFROM:-0400
TZOFFSETTO:-0500
TZNAME:EST
DTSTART:20241103T060000
END:STANDARD
BEGIN:DAYLIGHT
TZOFFSETFROM:-0500
TZOFFSETTO:-0400
TZNAME:EDT
DTSTART:20250309T070000
END:DAYLIGHT
BEGIN:STANDARD
TZOFFSETFROM:-0400
TZOFFSETTO:-0500
TZNAME:EST
DTSTART:20251102T060000
END:STANDARD
BEGIN:DAYLIGHT
TZOFFSETFROM:-0500
TZOFFSETTO:-0400
TZNAME:EDT
DTSTART:20260308T070000
END:DAYLIGHT
BEGIN:STANDARD
TZOFFSETFROM:-0400
TZOFFSETTO:-0500
TZNAME:EST
DTSTART:20261101T060000
END:STANDARD
BEGIN:DAYLIGHT
TZOFFSETFROM:-0500
TZOFFSETTO:-0400
TZNAME:EDT
DTSTART:20270314T070000
END:DAYLIGHT
BEGIN:STANDARD
TZOFFSETFROM:-0400
TZOFFSETTO:-0500
TZNAME:EST
DTSTART:20271107T060000
END:STANDARD
END:VTIMEZONE
BEGIN:VEVENT
DTSTART;VALUE=DATE:20250718
DTEND;VALUE=DATE:20250720
DTSTAMP:20260421T162959
CREATED:20250612T195138Z
LAST-MODIFIED:20250612T195138Z
UID:2227-1752796800-1752969599@rileyparkevents.com
SUMMARY:Unite Charleston
DESCRIPTION:Join us at the Joe for Unite Charleston! It’s happening Friday and Saturday\, July 18 and July 19. The lineup includes a message of hope from Scott Dawson\, and performances by Cece Winans\, Chandler Moore\, STS Worship\, Hulvey\, and Cain.
URL:https://rileyparkevents.com/event/unite-charleston/
LOCATION:Joseph P. Riley Park\, 360 Fishburne Street\, Charleston\, 29403\, United States
CATEGORIES:Special Event
ATTACH;FMTTYPE=image/png:https://rileyparkevents.com/wp-content/uploads/2025/06/FULL-LINEUP-thumbnail-1.png
END:VEVENT
BEGIN:VEVENT
DTSTART;TZID=America/New_York:20260523T110000
DTEND;TZID=America/New_York:20260523T160000
DTSTAMP:20260421T162959
CREATED:20250908T234728Z
LAST-MODIFIED:20250908T235134Z
UID:2266-1779534000-1779552000@rileyparkevents.com
SUMMARY:BBQ and Boots Festival - MOVED to MAY 23\, 2026
DESCRIPTION:The 2025 Charleston RiverDogs BBQ & Boots Festival has been postponed until May 23\, 2026. \nMore updates coming!
URL:https://rileyparkevents.com/event/bbq-and-boots-festival-postponed/
LOCATION:Joseph P. Riley Park\, 360 Fishburne Street\, Charleston\, 29403\, United States
CATEGORIES:Special Event
ATTACH;FMTTYPE=image/webp:https://rileyparkevents.com/wp-content/uploads/2025/06/Riverdogs-BBQ-Banner-e1757375466346.webp
END:VEVENT
END:VCALENDAR